BEGIN:VCALENDAR
VERSION:2.0
PRODID:-//MRC North - ECPv4.9.13//NONSGML v1.0//EN
CALSCALE:GREGORIAN
METHOD:PUBLISH
X-WR-CALNAME:MRC North
X-ORIGINAL-URL:https://www.mrcltn.org.au
X-WR-CALDESC:Events for MRC North
BEGIN:VTIMEZONE
TZID:UTC
BEGIN:STANDARD
TZOFFSETFROM:+0000
TZOFFSETTO:+0000
TZNAME:UTC
DTSTART:20180101T000000
END:STANDARD
END:VTIMEZONE
BEGIN:VEVENT
DTSTART;TZID=UTC:20181101T153000
DTEND;TZID=UTC:20181101T170000
DTSTAMP:20200301T174520
CREATED:20180226T232525Z
LAST-MODIFIED:20180226T232525Z
UID:3865-1541086200-1541091600@www.mrcltn.org.au
SUMMARY:Tutor Program-Term 4
DESCRIPTION:Do you need help with homework or school assignments for high school\, college and university? If you are a multicultural student attending secondary school or college you are eligible for this program. Just drop in to the weekly sessions during school term. For more information call Sharon at 6332 2211. \n
URL:https://www.mrcltn.org.au/event/tutor-program-term-4/2018-11-01/
LOCATION:MRC North\, 95 Cameron Street\, Launceston\, Tasmania\, 7250\, Australia
CATEGORIES:MRC Events
ORGANIZER;CN="MRC%20Admin":MAILTO:admin@mrcltn.org.au
END:VEVENT
END:VCALENDAR