BEGIN:VCALENDAR
VERSION:2.0
PRODID:-//MRC North - ECPv4.9.13//NONSGML v1.0//EN
CALSCALE:GREGORIAN
METHOD:PUBLISH
X-WR-CALNAME:MRC North
X-ORIGINAL-URL:https://www.mrcltn.org.au
X-WR-CALDESC:Events for MRC North
BEGIN:VTIMEZONE
TZID:UTC
BEGIN:STANDARD
TZOFFSETFROM:+0000
TZOFFSETTO:+0000
TZNAME:UTC
DTSTART:20180101T000000
END:STANDARD
END:VTIMEZONE
BEGIN:VEVENT
DTSTART;TZID=UTC:20181127T153000
DTEND;TZID=UTC:20181127T170000
DTSTAMP:20200229T025840
CREATED:20181108T061052Z
LAST-MODIFIED:20181108T061052Z
UID:3884-1543332600-1543338000@www.mrcltn.org.au
SUMMARY:Homework Support Group for Parents and Children
DESCRIPTION:Multicultural Homework Support Group offers support to parents and children with their homework. Refreshments provided. \n
URL:https://www.mrcltn.org.au/event/homework-support-group-for-parents-and-children/2018-11-27/
LOCATION:Haig Community Space\, 21 Haig Street\, Mowbray\, Tasmania\, 7248\, Australia
CATEGORIES:MRC Events
ORGANIZER;CN="MRC%20Admin":MAILTO:admin@mrcltn.org.au
END:VEVENT
END:VCALENDAR