BEGIN:VCALENDAR
VERSION:2.0
PRODID:-//MRC North - ECPv4.9.13//NONSGML v1.0//EN
CALSCALE:GREGORIAN
METHOD:PUBLISH
X-WR-CALNAME:MRC North
X-ORIGINAL-URL:https://www.mrcltn.org.au
X-WR-CALDESC:Events for MRC North
BEGIN:VTIMEZONE
TZID:UTC
BEGIN:STANDARD
TZOFFSETFROM:+0000
TZOFFSETTO:+0000
TZNAME:UTC
DTSTART:20170101T000000
END:STANDARD
END:VTIMEZONE
BEGIN:VEVENT
DTSTART;VALUE=DATE:20170425
DTEND;VALUE=DATE:20170426
DTSTAMP:20200229T022233
CREATED:20170315T022228Z
LAST-MODIFIED:20170315T022228Z
UID:2593-1493078400-1493164799@www.mrcltn.org.au
SUMMARY:ANZAC Day Office Closed
DESCRIPTION:Enjoy ANZAC Day\, the MRC North office will be closed for the day\, and will reopen as normal on 26 April 2017. \n
URL:https://www.mrcltn.org.au/event/anzac-day-office-closed/
CATEGORIES:MRC Events
END:VEVENT
END:VCALENDAR